BEGIN:VCALENDAR
VERSION:2.0
PRODID:-//Post Apocalyptic Events - ECPv6.15.20//NONSGML v1.0//EN
CALSCALE:GREGORIAN
METHOD:PUBLISH
X-WR-CALNAME:Post Apocalyptic Events
X-ORIGINAL-URL:https://postapocevents.com
X-WR-CALDESC:Events for Post Apocalyptic Events
REFRESH-INTERVAL;VALUE=DURATION:PT1H
X-Robots-Tag:noindex
X-PUBLISHED-TTL:PT1H
BEGIN:VTIMEZONE
TZID:Europe/Helsinki
BEGIN:DAYLIGHT
TZOFFSETFROM:+0200
TZOFFSETTO:+0300
TZNAME:EEST
DTSTART:20240331T010000
END:DAYLIGHT
BEGIN:STANDARD
TZOFFSETFROM:+0300
TZOFFSETTO:+0200
TZNAME:EET
DTSTART:20241027T010000
END:STANDARD
BEGIN:DAYLIGHT
TZOFFSETFROM:+0200
TZOFFSETTO:+0300
TZNAME:EEST
DTSTART:20250330T010000
END:DAYLIGHT
BEGIN:STANDARD
TZOFFSETFROM:+0300
TZOFFSETTO:+0200
TZNAME:EET
DTSTART:20251026T010000
END:STANDARD
BEGIN:DAYLIGHT
TZOFFSETFROM:+0200
TZOFFSETTO:+0300
TZNAME:EEST
DTSTART:20260329T010000
END:DAYLIGHT
BEGIN:STANDARD
TZOFFSETFROM:+0300
TZOFFSETTO:+0200
TZNAME:EET
DTSTART:20261025T010000
END:STANDARD
END:VTIMEZONE
BEGIN:VEVENT
DTSTART;TZID=Europe/Helsinki:20250825T180000
DTEND;TZID=Europe/Helsinki:20250831T211000
DTSTAMP:20260420T064143
CREATED:20250215T042701Z
LAST-MODIFIED:20250613T135015Z
UID:4672-1756144800-1756674600@postapocevents.com
SUMMARY:Ziemie Jałowe 2025
DESCRIPTION:THE WASTE LANDS INVITE YOU FOR THE 15TH TIME!\nSave the date—on August 25\, 2025\, the next edition of the most Western-Post-Apocalyptic-Cyberpunk convention in the country begins!\nWhat’s waiting for you?\nA week-long event for everyone—a total reset and relaxation in multiple forms. If you’re 18 or older and want to experience something unforgettable\, come join us! Even better—gather your crew and conquer the wastelands together! \nFor four days\, you’ll immerse yourself in an amazing LARP\, living out adventures and emotions that are impossible to experience anywhere else. We’ll share more details about the LARP in separate posts\, but for now\, just know that whether you’re a complete newbie or a seasoned player\, you’ll fit right in! \nDuring the convention part\, you’ll escape from everyday life and surround yourself with people who share real passions—there’s no small talk about work here\, there’s no time for that! Contests\, lectures\, epic parties… or maybe you prefer chilling and nerding out? We’ve got it all! \n📍 The event takes place in Gliwice\, Poland—easily accessible from anywhere in the country.🏕️ We sleep in tents.🍽️ Food zone on-site.🛒 Shops within walking distance. \nSee you on the wastelands!
URL:https://postapocevents.com/event/ziemie-jalowe-2025/
LOCATION:Battlezone Arena – Gliwice\, Battlezone Arena\, Gliwice\, Silesian Voivodeship (Śląskie)\, 44-100\, Poland
CATEGORIES:LARP
ATTACH;FMTTYPE=image/jpeg:https://postapocevents.com/wp-content/uploads/2025/02/Ziemie-Jalowe-2025.jpg
END:VEVENT
END:VCALENDAR