BEGIN:VCALENDAR
VERSION:2.0
PRODID:-//Post Apocalyptic Events - ECPv6.15.20//NONSGML v1.0//EN
CALSCALE:GREGORIAN
METHOD:PUBLISH
X-WR-CALNAME:Post Apocalyptic Events
X-ORIGINAL-URL:https://postapocevents.com
X-WR-CALDESC:Events for Post Apocalyptic Events
REFRESH-INTERVAL;VALUE=DURATION:PT1H
X-Robots-Tag:noindex
X-PUBLISHED-TTL:PT1H
BEGIN:VTIMEZONE
TZID:Europe/London
BEGIN:DAYLIGHT
TZOFFSETFROM:+0000
TZOFFSETTO:+0100
TZNAME:BST
DTSTART:20250330T010000
END:DAYLIGHT
BEGIN:STANDARD
TZOFFSETFROM:+0100
TZOFFSETTO:+0000
TZNAME:GMT
DTSTART:20251026T010000
END:STANDARD
BEGIN:DAYLIGHT
TZOFFSETFROM:+0000
TZOFFSETTO:+0100
TZNAME:BST
DTSTART:20260329T010000
END:DAYLIGHT
BEGIN:STANDARD
TZOFFSETFROM:+0100
TZOFFSETTO:+0000
TZNAME:GMT
DTSTART:20261025T010000
END:STANDARD
BEGIN:DAYLIGHT
TZOFFSETFROM:+0000
TZOFFSETTO:+0100
TZNAME:BST
DTSTART:20270328T010000
END:DAYLIGHT
BEGIN:STANDARD
TZOFFSETFROM:+0100
TZOFFSETTO:+0000
TZNAME:GMT
DTSTART:20271031T010000
END:STANDARD
END:VTIMEZONE
BEGIN:VEVENT
DTSTART;VALUE=DATE:20260904
DTEND;VALUE=DATE:20260907
DTSTAMP:20260425T220940
CREATED:20260307T064816Z
LAST-MODIFIED:20260307T064816Z
UID:6023-1788480000-1788739199@postapocevents.com
SUMMARY:The Wastes at Fantasy Forest Libertalia UK 2026
DESCRIPTION:Are you ready to step beyond the ordinary and dive into “The Wastes”…. the raw\, wild\, post-apocalyptic zone at Fantasy Forest Festival (and beyond)? If you’ve ever wondered what it feels like to wander through a world reborn from chaos\, surrounded by incredible characters\, costumes and stories\, then this is your tribe. \nAt Fantasy Forest\, you’ll find magic\, fantasy and adventure at every turn and the decaying wastelands of “The Wastes” brings a gritty\, immersive edge into the mix. It’s a place to meet fellow survivalists\, swap tales\, test your creativity\, and become part of a community that lives for unforgettable experiences and epic events. \nWhether you’re prepping your costume\, planning your trip\, or just want to connect with others who live for this vibe\, make sure you’re plugged into all the places where the rumours\, meet-ups and hype happen: \nThe Wastes Facebook Group:\nhttps://www.facebook.com/groups/649969663570291/ \nFollow The Wastes on Instagram:\nhttps://www.instagram.com/thewastesofficial1 \nFollow The Wastes on TikTok:\nhttps://www.tiktok.com/@thewastesofficial
URL:https://postapocevents.com/event/the-wastes-at-fantasy-forest-libertalia-uk-2026/
LOCATION:Hatfield House\, Hertfordshire\, United Kingdom
CATEGORIES:Festival
ATTACH;FMTTYPE=image/jpeg:https://postapocevents.com/wp-content/uploads/2026/03/The-Wastes-UK-post-apocalyptic-fantasy-forest-festival-event.jpg
ORGANIZER;CN="Fantasy Forest":MAILTO:info@fantasyforest.co.uk
END:VEVENT
END:VCALENDAR