BEGIN:VCALENDAR
VERSION:2.0
PRODID:-//Post Apocalyptic Events - ECPv6.15.20//NONSGML v1.0//EN
CALSCALE:GREGORIAN
METHOD:PUBLISH
X-WR-CALNAME:Post Apocalyptic Events
X-ORIGINAL-URL:https://postapocevents.com
X-WR-CALDESC:Events for Post Apocalyptic Events
REFRESH-INTERVAL;VALUE=DURATION:PT1H
X-Robots-Tag:noindex
X-PUBLISHED-TTL:PT1H
BEGIN:VTIMEZONE
TZID:Europe/London
BEGIN:DAYLIGHT
TZOFFSETFROM:+0000
TZOFFSETTO:+0100
TZNAME:BST
DTSTART:20220327T010000
END:DAYLIGHT
BEGIN:STANDARD
TZOFFSETFROM:+0100
TZOFFSETTO:+0000
TZNAME:GMT
DTSTART:20221030T010000
END:STANDARD
BEGIN:DAYLIGHT
TZOFFSETFROM:+0000
TZOFFSETTO:+0100
TZNAME:BST
DTSTART:20230326T010000
END:DAYLIGHT
BEGIN:STANDARD
TZOFFSETFROM:+0100
TZOFFSETTO:+0000
TZNAME:GMT
DTSTART:20231029T010000
END:STANDARD
BEGIN:DAYLIGHT
TZOFFSETFROM:+0000
TZOFFSETTO:+0100
TZNAME:BST
DTSTART:20240331T010000
END:DAYLIGHT
BEGIN:STANDARD
TZOFFSETFROM:+0100
TZOFFSETTO:+0000
TZNAME:GMT
DTSTART:20241027T010000
END:STANDARD
END:VTIMEZONE
BEGIN:VEVENT
DTSTART;TZID=Europe/London:20230707T060000
DTEND;TZID=Europe/London:20230709T050000
DTSTAMP:20260425T170641
CREATED:20220410T135557Z
LAST-MODIFIED:20230522T012042Z
UID:1037-1688709600-1688878800@postapocevents.com
SUMMARY:Road to Ruin Festival 2023 - CANCELED
DESCRIPTION:This event was canceled on February 1st\, 2023.\nA post apocalyptic festival featuring vehicles\, fire\, music\, beer\, V8s and much much more! \nAbout this event: \nAttention warboys\, tankgirls\, wasteland warriors and armageddonists! \nSet in the rural wastelands of Buckinghamshire\, there will be bands\, performers\, sideshows\, weirdos\, beer\, food stalls\, dancers\, DJs\, noise\, fuel\, fire\, a dance area and a Road Run – The Road to Ruin. The whole event will be set inside a compound of trade stalls\, a speciality-built stage\, distressing-stations\, and workshops…for all of your post-apocalyptic needs! \nA fully themed vehicle Road Run featuring cars\, bikes\, trikes and trucks from around the UK on a pre-planned convoy. \nA Battle Arena where participants can join in Jugger leagues\, Thunderdome fights and watch flaming sword and live action displays. There will also be axe-throwing\, whip-cracking and sword fighting workshops available for all ages. \nThe Planet Grunt stage featuring live music and performances from fire dancers\, to acoustic sets and bands from various genres encapsulating the global music vibe. Everything from grunge\, metal\, rock\, industrial punk and everything in between! \nTraders serving everything from coffee\, merchandise\, food\, and specially-designed post apocalyptic accessories and costumes\, not to mention our specially-stocked onsite bar. \nVehicle displays including rat rods\, survival bikes\, ratbikes and trucks at the Desolation Alley Vehicle Show and Vehicle Photography compound. \nA dance tent serving all of your post-live-music and dancing needs! \nEvent Dress Code: As this is an immersive event and the organisers try their best to keep it that way\, you will be expected to come dressed in a post-apocalyptic/Mad Max style costume. This is a must! By purchasing this ticket\, you agree to the costume rules and will partake in the immersive atmosphere. \nIf you have problems finding inspiration or need assistance\, check out the Road to Ruin FAQ group on Facebook or visit one of our many traders on site. \nFAQs \nCan I dress in “civilian-style clothing” like blue jeans etc? \nThis festival is designed to be fully immersive for all attendees. We ask that everyone purchasing a ticket dress according to the theme\, even if it’s simply army-military-style gear. You’ll feel like the odd one out at this event if you turn up wearing blue jeans! \nAre there ID or minimum age requirements to enter the event? \nBring the Purchasers I.D. with your e-ticket or print-out. Severed hands will not be admissible. Minors (under 13) are required to be escorted by an adult at all times. There will be adult-themed entertainment throughout the event. Parental guidance is advised. \nCan I bring my kids? \nYes! Under 16s go free! \nWhat times are the gates open? \nThursday – gates open at 12pm \nFriday – gates open at 10am \nSaturday – gates open at 10am \nSunday – gates open at 10am and will remain open for exiting the site \nAll vehicles can be re-admitted to the festival as long as your wristband is shown. \nWhat are my transport/parking options for getting to and from the event? \nFull free on-site parking for all vehicles – please note: Rat/Survival and suitable show vehicles will be directed to the “Desolation Alley” vehicle show once the drivers and passengers have parked if your ticket is valid. All others will be directed to an adjacent on-site car park near the campsite. \nWhat can I bring into the event? \nYou may bring replica/non-harmful weaponry onto the site – all items will be subject to a safety check. No blades will be allowed. All airsoft guns will need to be emptied of ammunition before being allowed on site\, including magazines and no cap guns allowed. If deemed a safety hazard weapons will be secured in a locker and returned at the end of the event. Temporary allowances may be made for photoshoots during the Saturday Desolation Alley Vehicle Show. All items to be returned to the locker before evening entertainment begins. The organisers decision is final. NO GLASS ON SITE and please leave your drugs at home! \nHow about booze? \nWe have an on-site bar in the main arena where the majority of the activities will be happening. We ask all attendees to kindly respect the bar staff and the hard work they have put in to attending to your drinking needs by not bringing alcohol into the main arena. Please keep it in the campsite. There will be staff at the entrance to the main arena who will be providing visual checks. Absolutely NO glass on site! We will ask you to take any glass back to your tent and decant liquids into plastic bottles. Please respect our environment and consider the safety of other festival-goers including kids and dogs. \nI heard there are going to be activities on site! \nYou heard correct! There will be a “Battle Arena” with a Jugger league\, thunderdome fights with LARP-safe weaponry\, whip-cracking\, sword fighting and axe-throwing. By purchasing a ticket you automatically agree to our terms and conditions/activity waiver so you may participate in these events at any time. There are first aid and paramedics on site and the organisers are not responsible for any damage caused to yourself or your personal property. \nHow can I contact the organiser with any questions? \nBy Email – roadtoruinofficial@gmail.com or via the FaceBook page: http://facebook.com/roadtoruin2017/ \nIs there camping on-site? \nThere is camping on-site which is included in your ticket price\, cold water and toilets\, tents\, vans\, campervans\, caravans\, trucks\, teepees\, bivouacs – all welcome. There are no electrical hook-ups available. Fires and BBQs are welcome as long as they are raised off the grass and kept a minimum distance away from other tents. Tent camping will be seperated from live-in vehicle camping (which will be on the hard-standing area). There will be marshalls and security on site and they will patrol the campsite in intervals to ensure that all rules are adhered-to. \nWhat about drugs? \nOur policy on drugs is based on three core messages: \nPrevention\nDrug dealers and abusers\nWelfare and treatment\nPrevention \nAs organisers of the Road to Ruin we do not condone the dealing in or use of illegal drugs on site. Drug enforcement laws are as applicable on site as any where else in the country. We operate a zero-tolerence policy to drugs on site. \nAll those attending the site will be asked to submit to a search and if found in possession will be refused entry. An amnesty bin will be available at the entrance. \nThose found in possession on site will have their drugs confiscated by Security and ejected from the site\, if found to have large amounts they will be detained and reported to the police. Experimenting with drugs can lead to adverse reactions. The crowds at a festival can become very frightening and disorientating. If you do take drugs and you become ill\, depressed or frightened please ask a steward to direct you to one of the first aid posts or a security guard on site where you can receive help. \nDrug Dealers and Abusers \nRoad to Ruin security and stewards will take an active role monitoring for drug dealing and will work in full co-operation with the Constabulary. When there is a strong suspicion of drug dealing\, security will inform and assist the constabulary in every way possible. Security will evict and hold these persons strongly suspected of drug dealing and channel these evictions via the police for searching prior to eviction. \n…and alcohol? \nThose people too inebriated will be refused more alcohol. \nThose causing trouble because of drunkenness will be ejected. \nThose arriving too drunk will be refused entry. \nAn over 18 ID policy will be implemented. Only photo ID will be accepted : Passport\, Photo driving licence. No ID No sale! \nWe have a fully stocked bar on site and alcohol will be allowed in the campsite. Please don’t bring alcohol into the main arena\, please respect our traders and please do not bring glass on site. \nWelfare and First Aid \nFestival security are trained in emergency first aid and are fully informed about the welfare facilities on site. \nBad Behaviour \nIf you suspect any bad behaviour occurring on site\, whether this be misuse of weapons\, drug dealing\, abusive or inappropriate/drunken behaviour\, and sexual harassments\, please report immediately to a member of crew. We have a fully dedicated security team on site and bad behaviour will NOT be tolerated. We will endeavour to keep to a “three strike” rule\, however if your behaviour is a risk to anyone on site\, you will be evicted from site at the event manager’s discretion. \nCan I bring my dog? \nDogs are permitted but must be kept on a lead at all time\, no exceptions. This is to ensure everyone else’s safety\, protect people/other dogs/children and also keep the area clean. If you do not clear up after your dog\, you will be evicted from the site.
URL:https://postapocevents.com/event/road-to-ruin-festival-2023/
CATEGORIES:Camping,Festival
ATTACH;FMTTYPE=image/jpeg:https://postapocevents.com/wp-content/uploads/2022/04/Road-to-Ruin-2023.jpg
ORGANIZER;CN="Geof Bitmead":MAILTO:roadtoruinofficial@gmail.com
END:VEVENT
END:VCALENDAR