BEGIN:VCALENDAR
VERSION:2.0
PRODID:-//Post Apocalyptic Events - ECPv6.15.20//NONSGML v1.0//EN
CALSCALE:GREGORIAN
METHOD:PUBLISH
X-WR-CALNAME:Post Apocalyptic Events
X-ORIGINAL-URL:https://postapocevents.com
X-WR-CALDESC:Events for Post Apocalyptic Events
REFRESH-INTERVAL;VALUE=DURATION:PT1H
X-Robots-Tag:noindex
X-PUBLISHED-TTL:PT1H
BEGIN:VTIMEZONE
TZID:Europe/London
BEGIN:DAYLIGHT
TZOFFSETFROM:+0000
TZOFFSETTO:+0100
TZNAME:BST
DTSTART:20230326T010000
END:DAYLIGHT
BEGIN:STANDARD
TZOFFSETFROM:+0100
TZOFFSETTO:+0000
TZNAME:GMT
DTSTART:20231029T010000
END:STANDARD
BEGIN:DAYLIGHT
TZOFFSETFROM:+0000
TZOFFSETTO:+0100
TZNAME:BST
DTSTART:20240331T010000
END:DAYLIGHT
BEGIN:STANDARD
TZOFFSETFROM:+0100
TZOFFSETTO:+0000
TZNAME:GMT
DTSTART:20241027T010000
END:STANDARD
BEGIN:DAYLIGHT
TZOFFSETFROM:+0000
TZOFFSETTO:+0100
TZNAME:BST
DTSTART:20250330T010000
END:DAYLIGHT
BEGIN:STANDARD
TZOFFSETFROM:+0100
TZOFFSETTO:+0000
TZNAME:GMT
DTSTART:20251026T010000
END:STANDARD
END:VTIMEZONE
BEGIN:VEVENT
DTSTART;TZID=Europe/London:20240920T130000
DTEND;TZID=Europe/London:20240922T180000
DTSTAMP:20260425T184503
CREATED:20240816T023046Z
LAST-MODIFIED:20240817T011029Z
UID:4032-1726837200-1727028000@postapocevents.com
SUMMARY:Haven 7 - Decompression UK 2024
DESCRIPTION:  \n \nReturn to Haven – all survivors welcome\nHaven has been the only continuous U.K.  Post Apoc event to happen after the outbreak of Covid. We have had a fantastic time at each event and are delighted to be looking forward to Haven 7. \nHaven is not just an event you come along to “consume”. Our ethos is about everyone contributing to the atmosphere and feel of the event as well as generating ideas and features. Some of our best and most enjoyable features have been the creation of individuals and tribes. Don’t come along just to be entertained by the organisers. Bring your input to help create the legend. Join in the group discussion in advance and help us to make Haven a truly special place and series of gatherings. \nOur site “The Farm” is set in sleepy Shropshire. We have ample camping. Toilet facilities. Paid showers (£1) A large INDOOR space with stage and best of all friendly creative landowners who want us to enjoy the site. The site is well enough away from civilisation for us to enjoy our immersion but also reasonably close to the Hack Green Nuclear Bunker where the road run is projected to run to. Admission to the bunker for a tour can be arranged at an additional fee. \nContinuing with our overarching storyline our next event is Haven 7 – Decompression.  We have survived the ending and life is becoming more bearable. Decompression means leaving the trials and tribulations behind so the tribes are again gathering to celebrate life\, trade and socialise. Haven truly is a place of safety. We are welcoming and inclusive with a fundamental rule – don’t be a d*ck. A true escape from the pressures of modern life. “Ferals” and Juniors are particularly welcome. Sorry though\, we are a working farm so pets are not able to join you at Haven. \nWe know how much Haven goers love outfits and dressing to impress.  We have themes for our evening features to facilitate this. Friday evening we are going with our Post Apoc “Dress to Impress” evening  particularly s we look forward to the new Mad Max movie. Saturday is our hugely popular cyberpunk night with the Burn Outs. Partying at the end of the world has become an essential part of the Haven experience in our indoor space The Mushroom Lounge. \n \nCybernight Picture by Julie Eiluj \nOf course you can simply continue to wear your post apoc outfits. Theme costumes are optional but a lot of fun. Bring your own food and drink or preorder from The Winchester with their unique post Apoc delivery service Apocaroo! Feel free to decorate your space and help create a visual feast. \n \nApocaroo – the food delivery even nukes can’t stop \nHaven is an immersive weekend. Everyone attending must be dressed in post apocalyptic style. Themed camps and tents etc will be sited closer to the main hub and Bartertown. Regular camping in the next door field and quiet camping closer to the site boundary. Everyone is welcome to barter for goods with one another. \nWeekend wristbands (gummi type which are becoming collectables in their own right) are £35 for the weekend inclusive of camping etc. Heck that’s less than you might spend just to camp never mind having a whole weekend of stuff going on. If you are bringing a gas guzzler (suitably PA’d car\, buggy\, motorcycle\, van\, or truck) you can send the organisers a picture on social media for approval. Prearranged vehicles will receive £10 at the event as a donation towards your fuel.   Kids at nursery or primary school are free. 12s-16s are £15. \n“The Winchester” offers very reasonably priced food and drink over the weekend but you are also welcome to bring your own as well as providing Apocaroo\, the Apocalypse’s first ever food delivery service.  At Haven 7 there is a brand new opportunity planned.  A mass Sunday lunch before you head home. Aimed for 1pm it allows you to pack your camp before or after lunch easy to head home.  You can bring your own food to the meal but Apocaroo offers meat and veggie lunch as a preorder for £10 which you can purchase here.  Check social media too as the Winchester offers pre order facilities for evening meals on Friday and Saturday too.  It’s nice to know where your next meal is coming from. \n  \n \nPost Apocalyptic U.K. on Facebook \nClick on the bug to be transported to our Facebook group. \nWe will have: \n\nA welcoming atmosphere for all post Apoc enthusiasts and interested newcomers.\n\n\nThemed camping and regular camping. (Sorry no electric hook ups)\nBartertown for trading.\nEvening event – Pulp Sci-Fi\nEvening event – Cyberpunk Ball\n\n\nOutdoor Arena.\nIndoor entertainments area with music\, talks\, workshops and features.\nPhoto opportunities and photographic/video sessions\nPA themed features allowing you to become part of the “legend” of Post apocalypse U.K.\n\n\nRoad run and other vehicle features as required.\n\n  \nIMPORTANT NOTES \nWe strive to protect our environment. We have no trash disposal facilities. What you bring in you take out. Care for the planet lest the apocalypse becomes reality. You may be fined at £5 per item for leaving trash around. \nT-shirt preorders close 1st August \nSunday Lunch preorders close one week before the event. \nWe look forward to having you join us to celebrate survival at Haven 7
URL:https://postapocevents.com/event/haven-7-decompression/
LOCATION:Bridge Farm\, Northwood\, Shrewsbury\,\, Shropshire\, Sy4 5nn\, United Kingdom
CATEGORIES:All Ages,Camping,Festival
END:VEVENT
END:VCALENDAR